BEGIN:VCALENDAR
VERSION:2.0
PRODID:-//Squarespace Inc/Squarespace 6//v6//EN
BEGIN:VEVENT
UID:58ad1c729f74561993e332ae@squarespace.com
DTSTAMP:20170222T051215Z
DTSTART:20170312T070000Z
DTEND:20170312T103000Z
SUMMARY:CLUB AUSSIE'S SUMMER BBQ 2017    
END:VEVENT
END:VCALENDAR
