BEGIN:VCALENDAR
VERSION:2.0
PRODID:-//Squarespace Inc/Squarespace 6//v6//EN
BEGIN:VEVENT
UID:5796c7e359cc68d43a48110f@squarespace.com
DTSTAMP:20160726T021901Z
DTSTART:20160804T030000Z
DTEND:20160804T040000Z
SUMMARY:Free Webinar - "Introduction to Cultural Intelligence" 
END:VEVENT
END:VCALENDAR
