BEGIN:VCALENDAR
VERSION:2.0
PRODID:-//Squarespace Inc/Squarespace 6//v6//EN
BEGIN:VEVENT
UID:5796c63cb3db2b0f3f5f4534@squarespace.com
DTSTAMP:20160726T021545Z
DTSTART:20160728T113000Z
DTEND:20160728T123000Z
SUMMARY:Networking Event
END:VEVENT
END:VCALENDAR
