BEGIN:VCALENDAR
VERSION:2.0
PRODID:-//Squarespace Inc/Squarespace 6//v6//EN
BEGIN:VEVENT
UID:56df74fc27d4bdb9da175bb1@squarespace.com
DTSTAMP:20160309T005825Z
DTSTART:20160406T023000Z
DTEND:20160406T033000Z
SUMMARY:Club Aussie Book Club 6-4-16
END:VEVENT
END:VCALENDAR
