BEGIN:VCALENDAR
VERSION:2.0
PRODID:-//Squarespace Inc/Squarespace 6//v6//EN
BEGIN:VEVENT
UID:56df72f9044262cdb876e65c@squarespace.com
DTSTAMP:20160309T005051Z
DTSTART:20160311T010000Z
DTEND:20160311T070000Z
SUMMARY:Corporate Volunteer Day for Parkerville Children's Home
END:VEVENT
END:VCALENDAR
