BEGIN:VCALENDAR
VERSION:2.0
PRODID:-//Squarespace Inc/Squarespace 6//v6//EN
BEGIN:VEVENT
UID:56df753e27d4bdb9da175d83@squarespace.com
DTSTAMP:20160309T010204Z
DTSTART:20160302T010000Z
DTEND:20160302T030000Z
SUMMARY:Coffee / Walking Club
END:VEVENT
END:VCALENDAR
