BEGIN:VCALENDAR
VERSION:2.0
PRODID:-//Squarespace Inc/Squarespace 6//v6//EN
BEGIN:VEVENT
UID:56df723740261de4b231655e@squarespace.com
DTSTAMP:20160309T004827Z
DTSTART:20160317T080000Z
DTEND:20160317T120000Z
SUMMARY:Go Green on the Green for St Pats
END:VEVENT
END:VCALENDAR
