BEGIN:VCALENDAR
VERSION:2.0
PRODID:-//Squarespace Inc/Squarespace 6//v6//EN
BEGIN:VEVENT
UID:56e0e64c04426223be2f1e77@squarespace.com
DTSTAMP:20160310T031514Z
DTSTART:20160320T073000Z
DTEND:20160320T093000Z
SUMMARY:Club Aussie Meet and Greet at Sculptures by the Sea
END:VEVENT
END:VCALENDAR
