BEGIN:VCALENDAR
VERSION:2.0
PRODID:-//Squarespace Inc/Squarespace 6//v6//EN
BEGIN:VEVENT
UID:5655417ee4b0702d37db836c@squarespace.com
DTSTAMP:20151125T050800Z
DTSTART:20160203T023000Z
DTEND:20160203T033000Z
SUMMARY:Club Aussie Book Club
END:VEVENT
END:VCALENDAR
