BEGIN:VCALENDAR
VERSION:2.0
PRODID:-//Squarespace Inc/Squarespace 6//v6//EN
BEGIN:VEVENT
UID:5696f15bbfe873ec75be339e@squarespace.com
DTSTAMP:20160114T005426Z
DTSTART:20160210T110000Z
DTEND:20160210T130000Z
SUMMARY:Friend Raiser
END:VEVENT
END:VCALENDAR
