BEGIN:VCALENDAR
VERSION:2.0
PRODID:-//Squarespace Inc/Squarespace 6//v6//EN
BEGIN:VEVENT
UID:56554a50e4b0acafe0fc9d8c@squarespace.com
DTSTAMP:20151125T055922Z
DTSTART:20160130T060000Z
DTEND:20160130T090000Z
SUMMARY:Asian Street Food Cooking Class
END:VEVENT
END:VCALENDAR
