BEGIN:VCALENDAR
VERSION:2.0
PRODID:-//Squarespace Inc/Squarespace 6//v6//EN
BEGIN:VEVENT
UID:55e537a7e4b061642116d051@squarespace.com
DTSTAMP:20150901T053036Z
DTSTART:20150930T023000Z
DTEND:20150930T033000Z
SUMMARY:Club Aussie Book Club 30/9
END:VEVENT
END:VCALENDAR
