BEGIN:VCALENDAR
VERSION:2.0
PRODID:-//Squarespace Inc/Squarespace 6//v6//EN
BEGIN:VEVENT
UID:55e536c4e4b0e17dfcf1f8f6@squarespace.com
DTSTAMP:20150901T052847Z
DTSTART:20150920T000000Z
DTEND:20150920T080000Z
SUMMARY:Spring Forward - Kids Fun Run
END:VEVENT
END:VCALENDAR
