BEGIN:VCALENDAR
VERSION:2.0
PRODID:-//Squarespace Inc/Squarespace 6//v6//EN
BEGIN:VEVENT
UID:55e53612e4b009a63eb28193@squarespace.com
DTSTAMP:20150901T052503Z
DTSTART:20150917T110000Z
DTEND:20150917T140000Z
SUMMARY:Travelling Trunk Style Show
END:VEVENT
END:VCALENDAR
