BEGIN:VCALENDAR
VERSION:2.0
PRODID:-//Squarespace Inc/Squarespace 6//v6//EN
BEGIN:VEVENT
UID:55e53806e4b0a22db8628a6c@squarespace.com
DTSTAMP:20150901T053142Z
DTSTART:20150901T060000Z
DTEND:20150930T070000Z
SUMMARY:Kings Park Festival
END:VEVENT
END:VCALENDAR
