BEGIN:VCALENDAR
VERSION:2.0
PRODID:-//Squarespace Inc/Squarespace 6//v6//EN
BEGIN:VEVENT
UID:55ac6429e4b003351c04f448@squarespace.com
DTSTAMP:20150720T033524Z
DTSTART:20150828T010000Z
DTEND:20150828T040000Z
SUMMARY:Project Me
END:VEVENT
END:VCALENDAR
