BEGIN:VCALENDAR
VERSION:2.0
PRODID:-//Squarespace Inc/Squarespace 6//v6//EN
BEGIN:VEVENT
UID:55a3166be4b07c31913c3157@squarespace.com
DTSTAMP:20150713T013946Z
DTSTART:20150821T110000Z
DTEND:20150821T160000Z
SUMMARY:Iona Primary School Cocktail Fundraiser. (18+ event)
END:VEVENT
END:VCALENDAR
