BEGIN:VCALENDAR
VERSION:2.0
PRODID:-//Squarespace Inc/Squarespace 6//v6//EN
BEGIN:VEVENT
UID:55ac633ce4b0f1200fccffbb@squarespace.com
DTSTAMP:20150720T025921Z
DTSTART:20150814T010000Z
DTEND:20150814T050000Z
SUMMARY:Guide to Living and Working in Australia
END:VEVENT
END:VCALENDAR
