BEGIN:VCALENDAR
VERSION:2.0
PRODID:-//Squarespace Inc/Squarespace 6//v6//EN
BEGIN:VEVENT
UID:55a3161de4b02ee06b2d3389@squarespace.com
DTSTAMP:20150713T013723Z
DTSTART:20150729T023000Z
DTEND:20150729T033000Z
SUMMARY:Club Aussie Book Club 29-7-2015
END:VEVENT
END:VCALENDAR
