BEGIN:VCALENDAR
VERSION:2.0
PRODID:-//Squarespace Inc/Squarespace 6//v6//EN
BEGIN:VEVENT
UID:55a3156ee4b0037ee2c955b1@squarespace.com
DTSTAMP:20150713T013612Z
DTSTART:20150726T060000Z
DTEND:20150726T100000Z
SUMMARY:Winter Warmer - Northbridge Brewery
END:VEVENT
END:VCALENDAR
