BEGIN:VCALENDAR
VERSION:2.0
PRODID:-//Squarespace Inc/Squarespace 6//v6//EN
BEGIN:VEVENT
UID:5631b1d8e4b06090529a618c@squarespace.com
DTSTAMP:20151029T054413Z
DTSTART:20151206T080000Z
DTEND:20151206T100000Z
SUMMARY:CHRISTMAS PARTY! 
END:VEVENT
END:VCALENDAR
