BEGIN:VCALENDAR
VERSION:2.0
PRODID:-//Squarespace Inc/Squarespace 6//v6//EN
BEGIN:VEVENT
UID:5655409be4b09e2585369706@squarespace.com
DTSTAMP:20151125T050440Z
DTSTART:20151211T010000Z
DTEND:20151211T060000Z
SUMMARY:Charity Volunteer Day
END:VEVENT
END:VCALENDAR
