BEGIN:VCALENDAR
VERSION:2.0
PRODID:-//Squarespace Inc/Squarespace 6//v6//EN
BEGIN:VEVENT
UID:5631b178e4b03a88e3951e61@squarespace.com
DTSTAMP:20151029T054149Z
DTSTART:20151127T100000Z
DTEND:20151127T140000Z
SUMMARY:Lily Anne Jewellery Party
END:VEVENT
END:VCALENDAR
