BEGIN:VCALENDAR
VERSION:2.0
PRODID:-//Squarespace Inc/Squarespace 6//v6//EN
BEGIN:VEVENT
UID:5631b10ce4b0339d4d0459ba@squarespace.com
DTSTAMP:20151029T054058Z
DTSTART:20151125T143000Z
DTEND:20151125T153000Z
SUMMARY:Club Aussie Book Club 25-11-15
END:VEVENT
END:VCALENDAR
