BEGIN:VCALENDAR
VERSION:2.0
PRODID:-//Squarespace Inc/Squarespace 6//v6//EN
BEGIN:VEVENT
UID:5611e23be4b0e75bc49ffaac@squarespace.com
DTSTAMP:20151005T023837Z
DTSTART:20151119T103000Z
DTEND:20151119T133000Z
SUMMARY:Maggie Dent Seminar - Magic Moments
END:VEVENT
END:VCALENDAR
