BEGIN:VCALENDAR
VERSION:2.0
PRODID:-//Squarespace Inc/Squarespace 6//v6//EN
BEGIN:VEVENT
UID:5631a80ee4b05cc183ade32d@squarespace.com
DTSTAMP:20151029T053907Z
DTSTART:20151110T024500Z
DTEND:20151110T034500Z
SUMMARY:Club Aussie Book Club - Movie Morning
END:VEVENT
END:VCALENDAR
