BEGIN:VCALENDAR
VERSION:2.0
PRODID:-//Squarespace Inc/Squarespace 6//v6//EN
BEGIN:VEVENT
UID:5611df60e4b09d0f91249a54@squarespace.com
DTSTAMP:20151005T022826Z
DTSTART:20151007T003000Z
DTEND:20151007T013000Z
SUMMARY:Coffee Club Walk
END:VEVENT
END:VCALENDAR
