BEGIN:VCALENDAR
VERSION:2.0
PRODID:-//Squarespace Inc/Squarespace 6//v6//EN
BEGIN:VEVENT
UID:5611e1e5e4b09e1a44f3f18f@squarespace.com
DTSTAMP:20151005T023610Z
DTSTART:20151028T023000Z
DTEND:20151028T033000Z
SUMMARY:Book Club 28-10-15
END:VEVENT
END:VCALENDAR
