BEGIN:VCALENDAR
VERSION:2.0
PRODID:-//Squarespace Inc/Squarespace 6//v6//EN
BEGIN:VEVENT
UID:5611e05ae4b0021af67682d9@squarespace.com
DTSTAMP:20151026T031848Z
DTSTART:20151026T233000Z
DTEND:20151027T013000Z
SUMMARY:Perth Chapter Meeting
END:VEVENT
END:VCALENDAR
