BEGIN:VCALENDAR
VERSION:2.0
PRODID:-//Squarespace Inc/Squarespace 6//v6//EN
BEGIN:VEVENT
UID:5611e13ae4b0a677ddef517a@squarespace.com
DTSTAMP:20151005T023502Z
DTSTART:20151014T013000Z
DTEND:20151014T023000Z
SUMMARY:Mothers Group 14-10-15
END:VEVENT
END:VCALENDAR
