BEGIN:VCALENDAR
VERSION:2.0
PRODID:-//Squarespace Inc/Squarespace 6//v6//EN
BEGIN:VEVENT
UID:53b10c09e4b044d9476fa4c7@squarespace.com
DTSTAMP:20140924T024646Z
DTSTART:20140704T060000Z
DTEND:20140704T070000Z
SUMMARY:Mothers Group 11-07-14
END:VEVENT
END:VCALENDAR
