BEGIN:VCALENDAR
VERSION:2.0
PRODID:-//Squarespace Inc/Squarespace 6//v6//EN
BEGIN:VEVENT
UID:538e78c6e4b0e32320234d1e@squarespace.com
DTSTAMP:20140604T014037Z
DTSTART:20140701T100000Z
DTEND:20140701T130000Z
SUMMARY:Guide to Living & Working in Australia Workshop #2
END:VEVENT
END:VCALENDAR
