BEGIN:VCALENDAR
VERSION:2.0
PRODID:-//Squarespace Inc/Squarespace 6//v6//EN
BEGIN:VEVENT
UID:5386807ce4b0b952086952a9@squarespace.com
DTSTAMP:20140924T024719Z
DTSTART:20140606T023000Z
DTEND:20140606T033000Z
SUMMARY:Mothers Group 06-06-14
END:VEVENT
END:VCALENDAR
