BEGIN:VCALENDAR
VERSION:2.0
PRODID:-//Squarespace Inc/Squarespace 6//v6//EN
BEGIN:VEVENT
UID:538e7864e4b02add9dca3f91@squarespace.com
DTSTAMP:20140604T014046Z
DTSTART:20140626T013000Z
DTEND:20140626T043000Z
SUMMARY:Guide to Living & Working in Australia Workshop #1
END:VEVENT
END:VCALENDAR
