BEGIN:VCALENDAR
VERSION:2.0
PRODID:-//Squarespace Inc/Squarespace 6//v6//EN
BEGIN:VEVENT
UID:538e77bfe4b0791ce6c1dd28@squarespace.com
DTSTAMP:20140924T024703Z
DTSTART:20140625T023000Z
DTEND:20140625T033000Z
SUMMARY:Book Club 25-06-14
END:VEVENT
END:VCALENDAR
