BEGIN:VCALENDAR
VERSION:2.0
PRODID:-//Squarespace Inc/Squarespace 6//v6//EN
BEGIN:VEVENT
UID:53684c42e4b01e9923ede93c@squarespace.com
DTSTAMP:20140506T024845Z
DTSTART:20140522T103000Z
DTEND:20140522T113000Z
SUMMARY:Social Networking Dinner
GEO:-31.949406;115.859119
LOCATION:Lido Restaurant\, William Street Arcade\, Northbridge\, WA\, 6003\
 , Australia
END:VEVENT
END:VCALENDAR
