BEGIN:VCALENDAR
VERSION:2.0
PRODID:-//Squarespace Inc/Squarespace 6//v6//EN
BEGIN:VEVENT
UID:53684b29e4b0a8d04d96b43e@squarespace.com
DTSTAMP:20140506T024802Z
DTSTART:20140514T100000Z
DTEND:20140514T110000Z
SUMMARY:POLA Pamper Evening
GEO:-31.960584;115.869985
LOCATION:POLA Event\, 78 Terrace Rd\, East Perth\, WA\, 6004\, Australia
END:VEVENT
END:VCALENDAR
