BEGIN:VCALENDAR
VERSION:2.0
PRODID:-//Squarespace Inc/Squarespace 6//v6//EN
BEGIN:VEVENT
UID:53684a81e4b05b041129b017@squarespace.com
DTSTAMP:20140924T024800Z
DTSTART:20140508T160000Z
DTEND:20140508T170000Z
SUMMARY:Mothers Group 09-05-14
GEO:-31.81945;115.84574
LOCATION:Lansdale Farm\, 80 Landsdale Rd\, Darch\, WA\, 6065\, Australia
END:VEVENT
END:VCALENDAR
