BEGIN:VCALENDAR
VERSION:2.0
PRODID:-//Squarespace Inc/Squarespace 6//v6//EN
BEGIN:VEVENT
UID:53684b97e4b0d9a600e28a17@squarespace.com
DTSTAMP:20140506T024829Z
DTSTART:20140519T020000Z
DTEND:20140519T030000Z
SUMMARY:Coffee Catch-Up
GEO:-31.928722;115.892833
LOCATION:Chapels on Whatley\, 196 Whatley Crescent\, Maylands\, WA\, 6051\, 
 Australia
END:VEVENT
END:VCALENDAR
