BEGIN:VCALENDAR
VERSION:2.0
PRODID:-//Squarespace Inc/Squarespace 6//v6//EN
BEGIN:VEVENT
UID:5343905ee4b077ee2eda1817@squarespace.com
DTSTAMP:20140415T071403Z
DTSTART:20140503T070000Z
DTEND:20140503T100000Z
SUMMARY:Willie Creek Pearls Afternoon Tea
GEO:41.924653;13.093669
LOCATION:Subiaco
END:VEVENT
END:VCALENDAR
