BEGIN:VCALENDAR
VERSION:2.0
PRODID:-//Squarespace Inc/Squarespace 6//v6//EN
BEGIN:VEVENT
UID:53867e4ee4b0ab5c8411a27f@squarespace.com
DTSTAMP:20140529T003236Z
DTSTART:20140606T100000Z
DTEND:20140606T113000Z
SUMMARY:Beer Tasting
END:VEVENT
END:VCALENDAR
