BEGIN:VCALENDAR
VERSION:2.0
PRODID:-//Squarespace Inc/Squarespace 6//v6//EN
BEGIN:VEVENT
UID:5358bf9ce4b05e628093d531@squarespace.com
DTSTAMP:20140424T074850Z
DTSTART:20140502T100000Z
DTEND:20140502T110000Z
SUMMARY:Exhibition Opening Invites
GEO:-31.98399;115.814655
LOCATION:Dr Harold Schenberg Art Centre\, Crawley WA\, Australia
END:VEVENT
END:VCALENDAR
