BEGIN:VCALENDAR
VERSION:2.0
PRODID:-//Squarespace Inc/Squarespace 6//v6//EN
BEGIN:VEVENT
UID:5356137de4b0ee0e22953a4f@squarespace.com
DTSTAMP:20140422T070343Z
DTSTART:20140501T090000Z
DTEND:20140501T120000Z
SUMMARY:Networking Sundowner
GEO:-31.955601;115.858319
LOCATION:Liberty Executive Offices\, 14/197 St Georges Terrace\, Perth\, WA
 \, Australia
END:VEVENT
END:VCALENDAR
