BEGIN:VCALENDAR
VERSION:2.0
PRODID:-//Squarespace Inc/Squarespace 6//v6//EN
BEGIN:VEVENT
UID:533ba16ce4b0a32f08fa1683@squarespace.com
DTSTAMP:20140924T024823Z
DTSTART:20140430T020000Z
DTEND:20140430T030000Z
SUMMARY:Book Club 30-04-14
END:VEVENT
END:VCALENDAR
