BEGIN:VCALENDAR
VERSION:2.0
PRODID:-//Squarespace Inc/Squarespace 6//v6//EN
BEGIN:VEVENT
UID:533ba066e4b0124fda68c7e4@squarespace.com
DTSTAMP:20140402T054310Z
DTSTART:20140410T110000Z
DTEND:20140410T120000Z
SUMMARY:Fashion Styling Workshop
GEO:-31.982487;115.780544
LOCATION:Claremont Quarter\, 9 Bayview Terrace\, Claremont\, Perth\, Austra
 lia
END:VEVENT
END:VCALENDAR
