BEGIN:VCALENDAR
VERSION:2.0
PRODID:-//Squarespace Inc/Squarespace 6//v6//EN
BEGIN:VEVENT
UID:53158b13e4b0f354f7e4814f@squarespace.com
DTSTAMP:20140409T062233Z
DTSTART:20140330T050000Z
DTEND:20140330T080000Z
SUMMARY:Meet n Greet BBQ
GEO:-31.960247;115.846508
LOCATION:John Oldham Park
END:VEVENT
END:VCALENDAR
