BEGIN:VCALENDAR
VERSION:2.0
PRODID:-//Squarespace Inc/Squarespace 6//v6//EN
BEGIN:VEVENT
UID:531d4a91e4b026b4af0cb85a@squarespace.com
DTSTAMP:20140924T024905Z
DTSTART:20140314T050000Z
DTEND:20140314T080000Z
SUMMARY:Mothers Group 14-03-14
GEO:-31.922023;115.846736
LOCATION:Hobart/Auckland Street Reserve\, Cnr Hobart and Auckland Street\, 
 North Perth\, Perth\, Australia
END:VEVENT
END:VCALENDAR
