BEGIN:VCALENDAR
VERSION:2.0
PRODID:-//Squarespace Inc/Squarespace 6//v6//EN
BEGIN:VEVENT
UID:531d4c26e4b0b3bd29229783@squarespace.com
DTSTAMP:20140310T053846Z
DTSTART:20140326T103000Z
DTEND:20140326T143000Z
SUMMARY:Korean Networking Dinner
GEO:-32.002049;115.887556
LOCATION:Gangnam Resturant\, Kent St\, Karawara\, Perth\, Australia
END:VEVENT
END:VCALENDAR
