BEGIN:VCALENDAR
VERSION:2.0
PRODID:-//Squarespace Inc/Squarespace 6//v6//EN
BEGIN:VEVENT
UID:531d4b76e4b030d9a2088372@squarespace.com
DTSTAMP:20140924T024842Z
DTSTART:20140326T023000Z
DTEND:20140326T033000Z
SUMMARY:Book Club 26-03-14
GEO:-31.982618;115.769224
LOCATION:Bookcaffe\, 137 Claremont Crescent\, Swanbourne\, Perth\, Australi
 a
END:VEVENT
END:VCALENDAR
