BEGIN:VCALENDAR
VERSION:2.0
PRODID:-//Squarespace Inc/Squarespace 6//v6//EN
BEGIN:VEVENT
UID:52f9d32ee4b063c492beaf85@squarespace.com
DTSTAMP:20140924T024918Z
DTSTART:20140226T023000Z
DTEND:20140226T033000Z
SUMMARY:Bookclub 26/02/14
END:VEVENT
END:VCALENDAR
